BEGIN:VCALENDAR
VERSION:2.0
PRODID:-//eventon.com NONSGML v1.0//EN
CALSCALE:GREGORIAN
METHOD:PUBLISH
BEGIN:VEVENT
UID:69e9f0551072e
DTSTAMP:20260423T101133Z
DTSTART:20200704
DTEND:20200705
LOCATION:Hsinchu (Taiwan)\,  Auditorium of Hsinchu County Goverment 10\,  Guangming 6th Rd.\,  Zhubei City\,  Hsinchu County 302\,  Taiwan
SUMMARY:新竹直笛國際交流比賽 | Hsinchu International Recorder Competition
DESCRIPTION:Maurice Steger | president of the jury 2020 Erik Bosgraaf\,  Mi
 chael Schneider\,  Meng-Heng Cheng and others | jury *** 新竹直笛國際
 交流比賽「如期辦理」⚠️ 因應學期延後而將比賽集中
 「7/4、7/5」兩天辦理～ 團體合奏比賽會在「7/5（日）」
 行，歡迎台灣各個優秀的直笛合奏團來參加～每個合奏
 隊有10分鐘的時間，團員組合沒有任何限制喔😊 今天公
 告最新的比賽簡章，請大家參閱！ 已經準備已久的音樂
 、全國賽，卻因新冠病毒而沒有了表演舞台，請不要錯
 此次的國際大賽～這是你今年可以大展笛藝的舞台❤️ 
 名到4/20截止，請大家把握期限上網報名喔😊👉報名網
 ：https://www.beclass.com/m/rid=2343aa75e0e2004e7e07 We announce the lat
 est information of Hsinchu International Recorder Competition! Welcome to T
 aiwan and show your recorder on the stage❤️ *** Information: https://ww
 w.facebook.com/hsinchurecordercompetition/?tn-str=k*F *** cancelled[..]\nht
 tps://maurice-steger.com/events/%e6%96%b0%e7%ab%b9%e7%9b%b4%e7%ac%9b%e5%9c%
 8b%e9%9a%9b%e4%ba%a4%e6%b5%81%e6%af%94%e8%b3%bd-hsinchu-international-recor
 der-competition/
URL:https://maurice-steger.com/events/%e6%96%b0%e7%ab%b9%e7%9b%b4%e7%ac%9b%e5%9c%8b%e9%9a%9b%e4%ba%a4%e6%b5%81%e6%af%94%e8%b3%bd-hsinchu-international-recorder-competition/
END:VEVENT
END:VCALENDAR