BEGIN:VCALENDAR
VERSION:2.0
PRODID:-//eventon.com NONSGML v1.0//EN
CALSCALE:GREGORIAN
METHOD:PUBLISH
BEGIN:VEVENT
UID:69e9ea93e5bf8
DTSTAMP:20260423T094659Z
DTSTART:20191029T183000Z
DTEND:20191029T203000Z
LOCATION:Zürich (CH)\,  MAAG Tonhalle Hardstrasse 219\,  8005 Zürich
SUMMARY:Nacht * nuit * night * notte * 夜
DESCRIPTION:Maurice Steger | recorder &amp; conductor &#8211; Blockflöte &
 amp; Leitung Zürcher Kammerorchester *** Es erwarten Sie die stimmungsvoll
 sten Nacht-Musiken von W. A. Mozart\,  J. S. Bach\,  T. Hosokawa\,  A. Viva
 ldi\,  A. Heberle &amp; weitere Überraschungen Atmospheric night music pie
 ces written by W. A. Mozart\,  J. S. Bach\,  T. Hosokawa\,  A.[..]\nhttps:/
 /maurice-steger.com/events/nacht-nuit-night-notte-%e5%a4%9c/
URL:https://maurice-steger.com/events/nacht-nuit-night-notte-%e5%a4%9c/
END:VEVENT
END:VCALENDAR