BEGIN:VCALENDAR
VERSION:2.0
PRODID:-//eventon.com NONSGML v1.0//EN
CALSCALE:GREGORIAN
METHOD:PUBLISH
BEGIN:VEVENT
UID:69eb6fbd883c9
DTSTAMP:20260424T132725Z
DTSTART:20190407T160000Z
DTEND:20190407T180000Z
LOCATION:Münster (DE)\,  Theater Theater Münster\,  Neubrückenstraße 63\,  48143 Münster\,  Deutschland
SUMMARY:G.A.P. Ensemble & Maurice Steger @ Theater Münster
DESCRIPTION:Maurice Steger | recorder &#8211; Blockflöte G.A.P. Trio Emili
 o Percan | Baroque violin &#8211; Barockvioline Oriol Aymat Fuste | Baroque
  cello &#8211; Barockvioloncello Luca Quintavalle | harpsichord &#8211; Cem
 balo *** Georg Friedrich Händel |Triosonate F-Dur op. 2 Nr. 4 Giuseppe Sam
 martini |Sonate g-Moll Nr. 14 &#8222;Parma&#8220; f. Blockflöte und B.c.[.
 .]\nhttps://maurice-steger.com/events/g-a-p-ensemble-maurice-steger-theater
 -muenster/
URL:https://maurice-steger.com/events/g-a-p-ensemble-maurice-steger-theater-muenster/
END:VEVENT
END:VCALENDAR