BEGIN:VCALENDAR
VERSION:2.0
PRODID:-//eventon.com NONSGML v1.0//EN
CALSCALE:GREGORIAN
METHOD:PUBLISH
BEGIN:VEVENT
UID:69e9d9253cbaa
DTSTAMP:20260423T083237Z
DTSTART:20181221T183000Z
DTEND:20181221T203000Z
LOCATION:Zürich (CH)\,  Kirche Fraumünster Münsterhof 2\,  8001 Zürich\,  Switzerland
SUMMARY:Weihnachtskonzert @ Fraumünster Kirche Zürich
DESCRIPTION:Maurice Steger | condutor &amp; recorder &#8211; Dirigent und S
 olist Zürcher Konzertchor Zürcher Kammerorchester | Zurich Chamber Orches
 tra ZKO *** Georg Friedrich Händel Sonata per orchestra G Dur\,  HWV 399 G
 eorg Friedrich Händel Orgelkonzert F-Dur HWV 295 &#8218;Der Kuckuck und di
 e Nachtigall&#8216; Martin Luther Vom Himmel hoch da komm ich[..]\nhttps://
 maurice-steger.com/events/weihnachtskonzert-fraumuenster-kirche-zuerich/
URL:https://maurice-steger.com/events/weihnachtskonzert-fraumuenster-kirche-zuerich/
END:VEVENT
END:VCALENDAR