BEGIN:VCALENDAR
VERSION:2.0
PRODID:-//eventon.com NONSGML v1.0//EN
CALSCALE:GREGORIAN
METHOD:PUBLISH
BEGIN:VEVENT
UID:69ec9c69eb206
DTSTAMP:20260425T105017Z
DTSTART:20181108T190000Z
DTEND:20181108T210000Z
LOCATION:München (DE)\,  Prinzregententheater Prinzregentenpl. 12\,  81675 München\,  Deutschland
SUMMARY:Baroque and Modern Music in Munich
DESCRIPTION:Maurice Steger | Blockflöte &#8211; recorder Yuki Kasai | Viol
 ine &#8211; Concertmaster Münchener Kammerorchester | Munich Chamber Orche
 stra *** M. Tippet: Fantasia Concertante on a theme of Corelli A. Vivaldi: 
 Concerto La Notte for recorder and orchestra T. Hosokawa: Nacht Schlaf for 
 orchestra with recorder\,  oboe\,  bassoon &amp; harpsichord A.[..]\nhttps:
 //maurice-steger.com/events/baroque-and-modern-music-in-munich/
URL:https://maurice-steger.com/events/baroque-and-modern-music-in-munich/
END:VEVENT
END:VCALENDAR