BEGIN:VCALENDAR
VERSION:2.0
PRODID:-//eventon.com NONSGML v1.0//EN
CALSCALE:GREGORIAN
METHOD:PUBLISH
BEGIN:VEVENT
UID:69e9d92237869
DTSTAMP:20260423T083234Z
DTSTART:20180404T173000Z
DTEND:20180404T193000Z
LOCATION:Everywhere on the world - Überall auf der Welt - Zuhause in Ihrem Wohnzimmer
SUMMARY:ORF Radiosendung | Alte Musik - neu interpretiert
DESCRIPTION:Maurice Steger im Gespräch mit Gerhard Hafner *** http://oe1.o
 rf.at/programm/20180404/510040 *** Hören Sie die Radiosendung auf Ö1 | De
 r im schweizerischen Winterthur geborene Maurice Steger gilt als einer der 
 führenden Blockflöten-Virtuosen unserer Tage. Von der internationalen Pre
 sse wird er etwa als &#8222;Paganini der Blockflöte&#8220; (NZZ) oder &#82
 22;the world&#8217;s leading recorder player&#8220;[..]\nhttps://maurice-st
 eger.com/events/orf-radiosendung-alte-musik-neu-interpretiert/
URL:https://maurice-steger.com/events/orf-radiosendung-alte-musik-neu-interpretiert/
END:VEVENT
END:VCALENDAR