BEGIN:VCALENDAR
VERSION:2.0
PRODID:-//eventon.com NONSGML v1.0//EN
CALSCALE:GREGORIAN
METHOD:PUBLISH
BEGIN:VEVENT
UID:69e9ecc8ef4cd
DTSTAMP:20260423T095624Z
DTSTART:20180519T180000Z
DTEND:20180519T210000Z
LOCATION:Ittingen (CH)\,  Kartause\,  Kellerhaus Kartause\,  8532 Warth-Weiningen\,  Schweiz
SUMMARY:Ittinger Pfingstkonzert - Dîner musical im Kellerhaus
DESCRIPTION:Maurice Steger | Blockflöte Stephan Mester | Conférencier Dan
 iele Caminiti | Theorbe Mauro Valli | Violoncello Xenia Löffler | Oboe Kat
 harina Heutjer | Violine Johannes Keller | Cembalo *** «Tafelmusik» Festl
 iches Nachtessen mit musikalischen Intermezzi Am Samstagabend laden wir zu
  einem Dîner Musical ein. Maurice Steger hat dazu Stephan Mester als[..]\n
 https://maurice-steger.com/events/ittinger-pfingstkonzert-diner-musical-im-
 kellerhaus/
URL:https://maurice-steger.com/events/ittinger-pfingstkonzert-diner-musical-im-kellerhaus/
END:VEVENT
END:VCALENDAR