BEGIN:VCALENDAR
VERSION:2.0
PRODID:-//eventon.com NONSGML v1.0//EN
CALSCALE:GREGORIAN
METHOD:PUBLISH
BEGIN:VEVENT
UID:69e9eca2330ea
DTSTAMP:20260423T095546Z
DTSTART:20180316T183000Z
DTEND:20180316T203000Z
LOCATION:Basel (CH)\,  Martinskirche Martinskirchplatz 4\,  4051 Basel
SUMMARY:Mozart\,  Heberle & Beethoven in Basel
DESCRIPTION:Maurice Steger | Blockflöte &#8211; recorder Howard Griffiths 
 | Dirigent &#8211; conductor Brandenburgisches Staatsorchester Frankfurt an
  der Oder *** Wolfgang Amadeus Mozart: Blockflötenkonzert nach dem Fagottk
 onzert B-dur\,  kv 191 Anton Heberle: Blockflötenkonzert G-Dur Ludwig van 
 Beethoven: Sinfonie Nr. 4 B-dur\,  op. 60 *** Maurice Steger und Howard Gri
 ffiths gehören zu[..]\nhttps://maurice-steger.com/events/mozart-heberle-be
 ethoven-in-basel/
URL:https://maurice-steger.com/events/mozart-heberle-beethoven-in-basel/
END:VEVENT
END:VCALENDAR