BEGIN:VCALENDAR
VERSION:2.0
PRODID:-//eventon.com NONSGML v1.0//EN
CALSCALE:GREGORIAN
METHOD:PUBLISH
BEGIN:VEVENT
UID:69e9ecc314979
DTSTAMP:20260423T095619Z
DTSTART:20171108T183000Z
DTEND:20171108T210000Z
LOCATION:Famagusta (North Cyprus)\,  Rauf Raif Denktas Culture and Congress Center\,  Concert Hall Eastern Mediterranean University Registrar's Office  Famagusta\,  North Cyprus Mersin 10\,  Turkey
SUMMARY:Baroque and Classical music on Cyprus
DESCRIPTION:Maurice Steger | conductor &amp; recorder Daniele Caminiti | lu
 te Nihat Agdach | leader Presidential Symphony Orchestra Cyprus *** Maurice
  Steger presents a colorful program with Baroque and Classical works by G. 
 F. Händel\,  A. Vivaldi (the wonderful lute concerto in D Major\,  played 
 by Daniele Caminiti)\,  G. Sammartini a.o.[..]\nhttps://maurice-steger.com/
 events/baroque-and-classical-music-on-cyprus-2/
URL:https://maurice-steger.com/events/baroque-and-classical-music-on-cyprus-2/
END:VEVENT
END:VCALENDAR