BEGIN:VCALENDAR
VERSION:2.0
PRODID:-//eventon.com NONSGML v1.0//EN
CALSCALE:GREGORIAN
METHOD:PUBLISH
BEGIN:VEVENT
UID:69eb483525dce
DTSTAMP:20260424T103845Z
DTSTART:20170907T180000Z
DTEND:20170907T200000Z
LOCATION:SÃ¶gel / Emsland (DE)\,  Emslandmuseum\,  Jagdschloss Clemenswerth 49751 SÃ¶gel\,  Deutschland
SUMMARY:Steger\,  Perl & Watts beim Musikfest Bremen\,  2. Konzert
DESCRIPTION:Maurice Steger | recorder &#8211; BlockflÃ¶te Hille Perl | Viol
 a da gamba Olga Watts | harpsichord &#8211; Cembalo *** Telemann: Fantasia 
 1 in A Dur fÃ¼r FlÃ¶te solo// Triosonate F Dur fÃ¼r BlockflÃ¶te\,  Viola da
  gamba &amp; b.c.\,  TWV 42:F3Â  Forqueray: â€žLa Rameauâ€œ und â€žJupiterâ
 €œ Hasse: Cantata per flauto e[..]\nhttps://maurice-steger.com/events/stege
 r-perl-watts-beim-musikfest-bremen-2-konzert/
URL:https://maurice-steger.com/events/steger-perl-watts-beim-musikfest-bremen-2-konzert/
END:VEVENT
END:VCALENDAR