BEGIN:VCALENDAR
VERSION:2.0
PRODID:-//eventon.com NONSGML v1.0//EN
CALSCALE:GREGORIAN
METHOD:PUBLISH
BEGIN:VEVENT
UID:69ecea820df87
DTSTAMP:20260425T162330Z
DTSTART:20171012T180000Z
DTEND:20171012T200000Z
LOCATION:Bad Ragaz (CH)\,  Kursaal Grand Resort Bad Ragaz\,  Kursaal\,  7310 Bad Ragaz
SUMMARY:Opening Concert "Music Connects"
DESCRIPTION:Maurice Steger | artist in residence\,  recorder &#8211; Blockf
 löte &amp; Leitung Ensemble Esperanza Chouchane Siranossian | violin &#821
 1; Konzertmeisterin *** &#8222;MusicConnects&#8220; bietet einen persönlic
 hen Zugang zu Weltklassekünstlern und verzaubert in einem kleinen feinen R
 ahmen. Geniessen Sie abwechslungsreiche Orchester-\,  Kammermusik- und Solo
 konzerte im wundervollen Ambiente des Kursaals im Grand Resort Bad[..]\nhtt
 ps://maurice-steger.com/events/opening-concert-music-connects/
URL:https://maurice-steger.com/events/opening-concert-music-connects/
END:VEVENT
END:VCALENDAR