BEGIN:VCALENDAR
VERSION:2.0
PRODID:-//eventon.com NONSGML v1.0//EN
CALSCALE:GREGORIAN
METHOD:PUBLISH
BEGIN:VEVENT
UID:69e9d8cbc08d0
DTSTAMP:20260423T083107Z
DTSTART:20170906T173000Z
DTEND:20170906T190000Z
LOCATION:Zürich (CH)\,  Augustinerkirche Augustinerhof 8\,  8001 Zürich
SUMMARY:Die Blockflöte in Bach Kantaten
DESCRIPTION:Maurice Steger | Blockflöte Solisten &amp; Instrumentalisten B
 acchanto | Vokalensemble Raphael Jud | Leitung *** Werke von Johann Sebasti
 an Bach *** Details folgen. Info: http://www.bacchanto.ch &nbsp; &nbsp;\nh
 ttps://maurice-steger.com/events/die-blockfloete-in-bach-kantaten/
URL:https://maurice-steger.com/events/die-blockfloete-in-bach-kantaten/
END:VEVENT
END:VCALENDAR