BEGIN:VCALENDAR
VERSION:2.0
PRODID:-//eventon.com NONSGML v1.0//EN
CALSCALE:GREGORIAN
METHOD:PUBLISH
BEGIN:VEVENT
UID:69e9ecc8e073d
DTSTAMP:20260423T095624Z
DTSTART:20170802T180000Z
DTEND:20170802T203000Z
LOCATION:Klosters (CH)\,  Arena Doggilochstrasse 51\,  7250 Klosters-Serneus
SUMMARY:Opening Concert of the Klosters Music Festival
DESCRIPTION:Maurice Steger | Blockflöte &amp; Leitung &#8211; recorder Kam
 merorchester Basel Stefano Barneschi | Solovioline &#8211; concertmaster An
 na Faber | Violine (Bach 1043) Katya Polin | Blockflöte &#8211; recorder (
 Bach 1049) Sergio Ciomei | Cembalo &#8211; harpsichord *** Johann Sebastian
  Bach: Konzert für 2 Violinen\,  Streicher und Continuo d-moll\,  BWV 104
 3 |[..]\nhttps://maurice-steger.com/events/opening-of-the-klosters-music-fe
 stival/
URL:https://maurice-steger.com/events/opening-of-the-klosters-music-festival/
END:VEVENT
END:VCALENDAR