BEGIN:VCALENDAR
VERSION:2.0
PRODID:-//eventon.com NONSGML v1.0//EN
CALSCALE:GREGORIAN
METHOD:PUBLISH
BEGIN:VEVENT
UID:69eb7f1d0b2b8
DTSTAMP:20260424T143301Z
DTSTART:20170727T170000Z
DTEND:20170727T190000Z
LOCATION:Herrenchiemsee (DE)\,  Schloss\,  Spiegelsaal Neues Schloss\,  83209 Herrenchiemsee\,  Deutschland
SUMMARY:Baroque Twitter @ Festspiele Herrenchiemsee
DESCRIPTION:Maurice Steger | recorder &#8211; flûte à bec &#8211; Blockfl
 öte &amp; flautino Nuria Rial | soprano Kammerorchester Basel  *** Leonar
 do Vinci (1690-1739) : “Rompi i lacci aquila altera” for Soprano from t
 he Opera “Astianatte” _ Pietro Torri (1650-1737) : “Amorosa rondinel
 la” for Soprano from the Opera “Nicomede” _ Francesco Gasparini (166
 1-1727) :[..]\nhttps://maurice-steger.com/events/baroque-twitter-festspiele
 -herrenchiemsee/
URL:https://maurice-steger.com/events/baroque-twitter-festspiele-herrenchiemsee/
END:VEVENT
END:VCALENDAR