BEGIN:VCALENDAR
VERSION:2.0
PRODID:-//eventon.com NONSGML v1.0//EN
CALSCALE:GREGORIAN
METHOD:PUBLISH
BEGIN:VEVENT
UID:69e9d9191a31f
DTSTAMP:20260423T083225Z
DTSTART:20170715T180000Z
DTEND:20170715T203000Z
LOCATION:Esterhazy (HUN)\,  Palace - Schloss ESTERHÁZY-KASTÉLY\,  9431 Fertőd–Eszterház
SUMMARY:Concert with Budapest Strings @ Esterházy Palace
DESCRIPTION:Maurice Steger | conductor &amp; recorder Budapest Strings | ch
 amber orchestra *** G. Fr. Handel: Overture Agrippina (1709) HWV 6 G. Ph.T
 elemann: Concerto C Major for Recorder and orchestra TWV51:C1 A. Salieri:
 Sinfonia Veneziana J. Chr. Bach: Overture Alessandro nell’Indie G. Samm
 artini: Concerto for flautino in F major L. Boccherini: D minor “La Cas
 a del Diavolo”[..]\nhttps://maurice-steger.com/events/concert-with-budape
 st-strings-esterhazy-palace/
URL:https://maurice-steger.com/events/concert-with-budapest-strings-esterhazy-palace/
END:VEVENT
END:VCALENDAR