BEGIN:VCALENDAR
VERSION:2.0
PRODID:-//eventon.com NONSGML v1.0//EN
CALSCALE:GREGORIAN
METHOD:PUBLISH
BEGIN:VEVENT
UID:69e9d91b5ce8d
DTSTAMP:20260423T083227Z
DTSTART:20170312T160000Z
DTEND:20170312T180000Z
LOCATION:Küsnacht (CH)\,  reformierte Kirche Untere Heslibachstrasse 2\,  8700 Küsnacht/ZH
SUMMARY:Souvenirs d'Italie live
DESCRIPTION:Maurice Steger | Blockflöte Daniele Caminiti | Laute Mauro Val
 li | Cello *** SOUVENIRS  live Der österreichische Graf von Harrach war D
 iplomat\,  Staatsmann\,  Vizekönig von Neapel und begeisterter Kunstsammle
 r. Doch auch die Musik gefiel ihm so sehr\,  dass er viele Werke sammelte\,
   in Auftrag gab\,  wohl selber auch Blockflöte spielte\, [..]\nhttps://ma
 urice-steger.com/events/souvenirs-ditalie-live/
URL:https://maurice-steger.com/events/souvenirs-ditalie-live/
END:VEVENT
END:VCALENDAR