BEGIN:VCALENDAR
VERSION:2.0
PRODID:-//eventon.com NONSGML v1.0//EN
CALSCALE:GREGORIAN
METHOD:PUBLISH
BEGIN:VEVENT
UID:69e9d919d816e
DTSTAMP:20260423T083225Z
DTSTART:20161217T183000Z
DTEND:20161217T203000Z
LOCATION:Cham (CH)\,  Lorzensaal Lorzensaal\,  6330 Cham\,  Schweiz
SUMMARY:Christmas Concert in Zug
DESCRIPTION:Maurice Steger | BlockflÃ¶te und Dirigent Zuger Sinfonietta ***
  Arcangelo CorelliÂ Concerto grosso g-Moll â€žFatto per la Notte di Nataleâ
 €œ Â Antonio VivaldiÂ Konzert B-Dur fÃ¼r BlockflÃ¶te\,  Streicher und B.c. 
 RV 375 Â Georg Friedrich HÃ¤ndelÂ Concerto grosso F-Dur op. 6 Nr. 2 Â Franc
 esco GeminianiÂ Concerto grosso d-Moll Nr. 12 â€žLa Follia Â Â Antonio Viva
 ldiÂ Konzert g-Moll fÃ¼r[..]\nhttps://maurice-steger.com/events/christmas-c
 oncert-in-zug/
URL:https://maurice-steger.com/events/christmas-concert-in-zug/
END:VEVENT
END:VCALENDAR