BEGIN:VCALENDAR
VERSION:2.0
PRODID:-//eventon.com NONSGML v1.0//EN
CALSCALE:GREGORIAN
METHOD:PUBLISH
BEGIN:VEVENT
UID:69e9d95a359e0
DTSTAMP:20260423T083330Z
DTSTART:20160505T180000Z
DTEND:20160505T200000Z
LOCATION:
SUMMARY:Verspielte Barock-Power: Maurice Steger in Gstaad
DESCRIPTION:Maurice Steger | Blockflöte Il Pomo d&#8217;Oro Zefira Valova 
 | Violine *** Maurice Steger ist der Blockflöten-Virtuose unserer Tage. Di
 e Blockflöte braucht viel Luft und Energie\,  dann kommt sie richtig in Sc
 hwingung\,  meint Maurice Steger. Und so ist der Bündner nach einem Konzer
 t zwar körperlich ausgepowert\,  sein mitreissendes Spiel hat[..]\nhttps:/
 /maurice-steger.com/events/verspielte-barock-power-maurice-steger-in-gstaad
 /
URL:https://maurice-steger.com/events/verspielte-barock-power-maurice-steger-in-gstaad/
END:VEVENT
END:VCALENDAR