BEGIN:VCALENDAR
VERSION:2.0
PRODID:-//eventon.com NONSGML v1.0//EN
CALSCALE:GREGORIAN
METHOD:PUBLISH
BEGIN:VEVENT
UID:69e80851526b7
DTSTAMP:20260421T232921Z
DTSTART:20160528T173000Z
DTEND:20160528T193000Z
LOCATION:Stadthaus
SUMMARY:Doppeltes Bach Vergnügen in Winterthur
DESCRIPTION:Maurice Steger | Dirigent &amp; Blockflöte Teo Gheorghiu | Kla
 vier Musikkollegium Winterthur | Sinfonieorchester *** G. F. Händel: Suit
 e aus der Oper «Almira\,  Königin von Kastilien» J. S. Bach: Suite für
  Flöte\,  Streicher und b.c. h-Moll BWV 1067 G. P. Telemann: Concerto gro
 sso D-Dur TWV 54:D3 J. S. Bach: Klavierkonzert d-Moll BWV 1052 ***[..]\nht
 tps://maurice-steger.com/events/doppeltes-bach-vergnuegen-in-winterthur/
URL:https://maurice-steger.com/events/doppeltes-bach-vergnuegen-in-winterthur/
END:VEVENT
END:VCALENDAR