BEGIN:VCALENDAR
VERSION:2.0
PRODID:-//eventon.com NONSGML v1.0//EN
CALSCALE:GREGORIAN
METHOD:PUBLISH
BEGIN:VEVENT
UID:69e9ed01e673f
DTSTAMP:20260423T095721Z
DTSTART:20160204T010000Z
DTEND:20160204T030000Z
LOCATION:
SUMMARY:MEZZO TV Asie - Steger & Il Pomo d'oro
DESCRIPTION:Maurice Steger | recorder &amp; direction &#8211; flûte à bec
  et direction Il Pomo d&#8217;Oro | Baroque orchestra &#8211; ensemble baro
 que Zefira Valova | First violin &#8211; premier violon Colin Laurent | TV 
 director &#8211; régisseur *** Giuseppe Antonio Brescianello Symphony in F
  major op. 1\,  no 5 Antonio Vivaldi[..]\nhttps://maurice-steger.com/events
 /mezzo-tv-asie-steger-il-pomo-doro-4/
URL:https://maurice-steger.com/events/mezzo-tv-asie-steger-il-pomo-doro-4/
END:VEVENT
END:VCALENDAR