BEGIN:VCALENDAR
VERSION:2.0
PRODID:-//eventon.com NONSGML v1.0//EN
CALSCALE:GREGORIAN
METHOD:PUBLISH
BEGIN:VEVENT
UID:69ebfffe50eac
DTSTAMP:20260424T234254Z
DTSTART:20151016T183000Z
DTEND:20151016T210000Z
LOCATION:Ascona (CH)
SUMMARY:Pulcinella in Ascona
DESCRIPTION:Maurice Steger | flauto barocco &#8211; recorder Orchestra del
 la Svizzera italiana Pablo González | direttore &#8211; conductor *** Tele
 mann: Ouverture in la minore per flauto a becco\,  archi e basso continuo 
 Couperin: Concert royal Nr. 4 per flauto e basso continuo\,  estratti Rave
 l: Tombeau de Couperin Vivaldi: Concerto in sol maggiore per flautino\,  
 archi e[..]\nhttps://maurice-steger.com/events/pulcinella-in-ascona/
URL:https://maurice-steger.com/events/pulcinella-in-ascona/
END:VEVENT
END:VCALENDAR