BEGIN:VCALENDAR
VERSION:2.0
PRODID:-//eventon.com NONSGML v1.0//EN
CALSCALE:GREGORIAN
METHOD:PUBLISH
BEGIN:VEVENT
UID:69e9eab5d78ac
DTSTAMP:20260423T094733Z
DTSTART:20150911T163000Z
DTEND:20150911T183000Z
LOCATION:Gliwice (PL)
SUMMARY:Koncert All Improvviso
DESCRIPTION:Maurice Steger | recorder &amp; direction &#8211; flet prosty 
 Fiorenza de Donatis | Baroque violin &#8211; skrzypce Hille Perl | Viola d
 a gamba Daniele Caminiti | theorbo &amp; Baroque guitar &#8211; teorba\,  
 gitara barokowa Naoki Kitaya | harpsichord &#8211; klawesyn *** Italian Ba
 roque music with works by Falconiero\,  Fontana\,  Scarlatti\,  Veracini\, 
  Vivaldi a.o. ***[..]\nhttps://maurice-steger.com/events/6141/
URL:https://maurice-steger.com/events/6141/
END:VEVENT
END:VCALENDAR