BEGIN:VCALENDAR
VERSION:2.0
PRODID:-//eventon.com NONSGML v1.0//EN
CALSCALE:GREGORIAN
METHOD:PUBLISH
BEGIN:VEVENT
UID:69ebf041c5760
DTSTAMP:20260424T223545Z
DTSTART:20150528T173000Z
DTEND:20150528T193000Z
LOCATION:Leverkusen (DE)
SUMMARY:Unerhörte Klänge im Spiegelsaal
DESCRIPTION:Dorothee Oberlinger | Blockflöte Maurice Steger | Blockflöt
 e Florian Birsak | Cembalo *** Werke von Marin Marais\,  Antonio Vivaldi\, 
  Arcangelo Corelli u.a. Dieses Konzert ist ein Gipfeltreffen barocker Flöt
 enkunst\,  das mit Dorothee Oberlinger und Maurice Steger zwei der größte
 n Virtuosen auf diesem Gebiet\,  für die das „Spiel ohne Grenzen“ zwei
 te Natur geworden[..]\nhttps://maurice-steger.com/events/5708/
URL:https://maurice-steger.com/events/5708/
END:VEVENT
END:VCALENDAR