BEGIN:VCALENDAR
VERSION:2.0
PRODID:-//eventon.com NONSGML v1.0//EN
CALSCALE:GREGORIAN
METHOD:PUBLISH
BEGIN:VEVENT
UID:69e9ea66507dd
DTSTAMP:20260423T094614Z
DTSTART:20150109T190000Z
DTEND:20150119T000000Z
LOCATION:Theater
SUMMARY:Sinfoniekonzert
DESCRIPTION:Maurice Steger | Blockflöte / recorder &amp; Dirigent / cond
 uctor Philharmonisches Orchester Erfurt *** Jean-Féry Rebel | Les Élémen
 ts Antonio Vivaldi: Concerti für Blockflöte und Orchester\,  u. a. La No
 tte und Il Gardellino Carlo Ignacio Monza: Sinfonia D-Dur La Tempesta di Ma
 re *** Das 4. Sinfoniekonzert präsentiert französische und italienische M
 eister der Barockzeit.[..]\nhttps://maurice-steger.com/events/4-sinfoniekon
 zert-2/
URL:https://maurice-steger.com/events/4-sinfoniekonzert-2/
END:VEVENT
END:VCALENDAR