BEGIN:VCALENDAR
VERSION:2.0
PRODID:-//eventon.com NONSGML v1.0//EN
CALSCALE:GREGORIAN
METHOD:PUBLISH
BEGIN:VEVENT
UID:69ea188aa8b52
DTSTAMP:20260423T130306Z
DTSTART:20260709T170000Z
DTEND:20260709T190000Z
LOCATION:Wittmund (DE)\,  Nicolaikirche Am Kirchplatz\,  26409 Wittmund\,  Deutschland
SUMMARY:Grand Tour @ Gezeitenkonzerte Ostfriesische Landschaft
DESCRIPTION:Dorothee Oberlinger &amp; Maurice Steger  |  Blockflöten Ale
 x Jellici  |  Barockvioloncello Gianluca Geremia  |  Laute Flóra Fábr
 i  |  Cembalo *** Blockflöten ohne Grenzen : Grand Tour Mit Dorothee Obe
 rlinger und Maurice Steger treffen sich bei den Gezeitenkonzerten 2026 zwei
  Musiker:innen\,  die in den vergangenen Jahrzehnten ihr Fach nicht nur gep
 rägt\, [..]\nhttps://maurice-steger.com/events/grand-tour-gezeitenkonzerte
 /?lang=en
URL:https://maurice-steger.com/events/grand-tour-gezeitenkonzerte/?lang=en
END:VEVENT
END:VCALENDAR