BEGIN:VCALENDAR
VERSION:2.0
PRODID:-//eventon.com NONSGML v1.0//EN
CALSCALE:GREGORIAN
METHOD:PUBLISH
BEGIN:VEVENT
UID:69e9d9eee78df
DTSTAMP:20260423T083558Z
DTSTART:20260522
DTEND:20260523
LOCATION:Konservatorium Zürich Florhofgasse 1\,  8001 Zürich\,  Schweiz
SUMMARY:Musikcamp Musikschule Konservatorium Zürich
DESCRIPTION:Prof. Maurice Steger unterrichtet am Musikcamp 2024 der Musik
 schule Konservatorium Zürich verschiedene Kammermusikgruppen und Ensembles
  mit einem Repertoire aus 5 Jahrhunderten. *** Die Veranstaltung ist ausgeb
 ucht\,  es findet ein Präsentationskonzert zu späterem Zeitpunkt statt. *
 **\nhttps://maurice-steger.com/events/musikcamp-musikschule-konservatorium-
 zuerich-2/?lang=en
URL:https://maurice-steger.com/events/musikcamp-musikschule-konservatorium-zuerich-2/?lang=en
END:VEVENT
END:VCALENDAR