BEGIN:VCALENDAR
VERSION:2.0
PRODID:-//eventon.com NONSGML v1.0//EN
CALSCALE:GREGORIAN
METHOD:PUBLISH
BEGIN:VEVENT
UID:69ea04459d863
DTSTAMP:20260423T113637Z
DTSTART:20251115
DTEND:20251116
LOCATION:Hsinchu (China\,  Taiwan)\,  Performance Hall of Cultural Bureau No.146\,  Xianzheng 9th Rd.\,  Zhubei City\,  Hsinchu County 302\,  Taiwan (R.O.C.)
SUMMARY:International Recorder Competition
DESCRIPTION:Prof. Maurice Steger is the president of the jury for the Inter
 national Asian Recorder Competition. Hsinchu Osaka   We will provide detai
 led information soon. *** &nbsp;\nhttps://maurice-steger.com/events/interna
 tional-recorder-competition/?lang=en
URL:https://maurice-steger.com/events/international-recorder-competition/?lang=en
END:VEVENT
END:VCALENDAR