BEGIN:VCALENDAR
VERSION:2.0
PRODID:-//eventon.com NONSGML v1.0//EN
CALSCALE:GREGORIAN
METHOD:PUBLISH
BEGIN:VEVENT
UID:69ea0443c0b75
DTSTAMP:20260423T113635Z
DTSTART:20251117
DTEND:20251118
LOCATION:Taichung (TW)\,  National Taichung University of Education National Taichung University of Education (NTCU) No. 140\,  Minsheng Road\,  West District\,  Taichung City\,  Taiwan 4030
SUMMARY:Lecture about Antonio Vivaldi and his era
DESCRIPTION:Prof. Maurice Steger will give a lecture and a master class for
  performing musicians at National Taichung University. *** Prof. Maurice St
 eger talks\,  discusses\,  and plays with students about Antonio Vivaldi an
 d his era. The recorder was a popular instrument in 18th-century Venice and
  was celebrated for its virtuosity as[..]\nhttps://maurice-steger.com/event
 s/masterclass-lecture-in-taichung/?lang=en
URL:https://maurice-steger.com/events/masterclass-lecture-in-taichung/?lang=en
END:VEVENT
END:VCALENDAR