BEGIN:VCALENDAR
VERSION:2.0
PRODID:-//eventon.com NONSGML v1.0//EN
CALSCALE:GREGORIAN
METHOD:PUBLISH
BEGIN:VEVENT
UID:69e8f3f23dc4d
DTSTAMP:20260422T161442Z
DTSTART:20250702T170000Z
DTEND:20250702T190000Z
LOCATION:Wittmund (DE)\,  Nicolaikirche Am Kirchplatz\,  26409 Wittmund\,  Deutschland
SUMMARY:Il Giardino d'Amore @ Gezeitenkonzerte
DESCRIPTION:Nuria Rial (Sopran) Maurice Steger (Blockflöte &amp; Flautino)
  Julia Schröder (Violine) Christoph Dangel (Violoncello) Arianna Radaelli 
 (Cembalo) *** Blockflöten-Virtuose Maurice Steger kommt alle Jahre wieder 
 nach Ostfriesland\,  mit stetig wechselnden musikalischen Partnern. Das Pub
 likum trägt ihn jedesmal auf Händen\,  wenn er (sofern nötig) die Barock
 musik entstaubt\,  sprich mit seiner erfrischenden[..]\nhttps://maurice-ste
 ger.com/events/bachs-notenbuechleins-bei-den-gezeitenkonzerten-2024-copy/
URL:https://maurice-steger.com/events/bachs-notenbuechleins-bei-den-gezeitenkonzerten-2024-copy/
END:VEVENT
END:VCALENDAR