BEGIN:VCALENDAR
VERSION:2.0
PRODID:-//eventon.com NONSGML v1.0//EN
CALSCALE:GREGORIAN
METHOD:PUBLISH
BEGIN:VEVENT
UID:69e9ecc1e12c4
DTSTAMP:20260423T095617Z
DTSTART:20250319T183000Z
DTEND:20250319T203000Z
LOCATION:Ludwigshafen (DE)\,  BASF-Feierabendhaus Leuschnerstraße 47\,  67063 Ludwigshafen am Rhein\,  Deutschland
SUMMARY:BASF Sinfoniekonzert | Meeting Point London Haymarket
DESCRIPTION:Maurice Steger | Blockflöte &amp; Leitung Deutsche Staatsphilh
 armonie Rheinland-Pfalz *** Zum Abschluss des Porträts wird Maurice Steger
  in einer Doppelfunktion als Dirigent und Solist zu erleben sein. Im Sinfon
 iekonzert mit der Deutschen Staatsphilharmonie Rheinland-Pfalz geht es dabe
 i „very british“ zu. Das Programm „Meeting Point London Haymarket“ 
 verbindet Musik einheimischer Komponisten[..]\nhttps://maurice-steger.com/e
 vents/basf-sinfoniekonzert-meeting-point-london-haymarket/
URL:https://maurice-steger.com/events/basf-sinfoniekonzert-meeting-point-london-haymarket/
END:VEVENT
END:VCALENDAR