BEGIN:VCALENDAR
VERSION:2.0
PRODID:-//eventon.com NONSGML v1.0//EN
CALSCALE:GREGORIAN
METHOD:PUBLISH
BEGIN:VEVENT
UID:69e9d9230a7e9
DTSTAMP:20260423T083235Z
DTSTART:20250224T180000Z
DTEND:20250224T200000Z
LOCATION:Dortmund (DE)\,  Konzerthaus Brückstraße 21\,  44135 Dortmund\,  Deutschland
SUMMARY:Baroque\,  classical and late-romantic opulent sounds | Dortmunder Philharmoniker
DESCRIPTION:Maurice Steger | Blockflöte\,  Leitung Dortmunder Philharmonik
 er *** Samuel Barber Molto Adagio aus Streichquartett op. 11 (Fassung für 
 Streichorchester) Georg Friedrich Händel Konzert für Blockflöte und Orch
 ester Nr. 5 F-Dur HWV 293 Ralph Vaughan Williams Fantasie über ein Thema v
 on Thomas Tallis für Doppelorchester Francesco Geminiani Konzert für Bloc
 kflöte und[..]\nhttps://maurice-steger.com/events/baroque-classical-and-la
 te-romantic-opulent-sounds-dortmunder-philharmoniker/
URL:https://maurice-steger.com/events/baroque-classical-and-late-romantic-opulent-sounds-dortmunder-philharmoniker/
END:VEVENT
END:VCALENDAR