BEGIN:VCALENDAR
VERSION:2.0
PRODID:-//eventon.com NONSGML v1.0//EN
CALSCALE:GREGORIAN
METHOD:PUBLISH
BEGIN:VEVENT
UID:69e89a10c04ce
DTSTAMP:20260422T095112Z
DTSTART:20250216T150000Z
DTEND:20250216T170000Z
LOCATION:Basel (CH)\,  Stadtcasino Basel\,  Musiksaal Stadtcasino Basel\,  Konzertgasse 1\,  4051 Basel
SUMMARY:Baroque ! Sunday Concerts @ Stadtcasino Basel
DESCRIPTION:Maurice Steger | Blockflöte &amp; Leitung &#8211; flûte à be
 c et direction Menuhin Academy Soloists | orchestre *** International Menuh
 in Music Academy &amp; Maurice Steger BLOCKFLÖTE UND LEITUNG Johann Sebast
 ian Bach Concerto D-Dur BWV 1053 für Blockflöte\,  Streicher und Basso co
 ntinuo Antonio Vivaldi Concerto d-Moll RV 565 für zwei Violinen\, [..]\nht
 tps://maurice-steger.com/events/baroque-sunday-concerts-stadtcasino-basel/
URL:https://maurice-steger.com/events/baroque-sunday-concerts-stadtcasino-basel/
END:VEVENT
END:VCALENDAR