BEGIN:VCALENDAR
VERSION:2.0
PRODID:-//eventon.com NONSGML v1.0//EN
CALSCALE:GREGORIAN
METHOD:PUBLISH
BEGIN:VEVENT
UID:69e7f467d599e
DTSTAMP:20260421T220423Z
DTSTART:20241005T180000Z
DTEND:20241005T200000Z
LOCATION:Bad Ragaz (CH)\,  Kursaal Grand Resort Bad Ragaz\,  Kursaal\,  7310 Bad Ragaz
SUMMARY:Baroque Music Concert @ Grand Resort Bad Ragaz
DESCRIPTION:Maurice Steger | Blockflöte &amp; Leitung Fiorenza de Donatis 
 | Barockvioline Teilnehmende der Junior Baroque Academy 2024 *** Barock: K
 onzert der Junior Baroque Academy und Flötist Maurice Steger im Grand Reso
 rt Bad Ragaz  Meisterkurs für Alte Musik &amp; Konzert im Grand Resort Ba
 d Ragaz Der international renommierte Professor und Flötist Maurice[..]\nh
 ttps://maurice-steger.com/events/baroque-music-concert-grand-resort-bad-rag
 az/
URL:https://maurice-steger.com/events/baroque-music-concert-grand-resort-bad-ragaz/
END:VEVENT
END:VCALENDAR