BEGIN:VCALENDAR
VERSION:2.0
PRODID:-//eventon.com NONSGML v1.0//EN
CALSCALE:GREGORIAN
METHOD:PUBLISH
BEGIN:VEVENT
UID:69e9d9038a332
DTSTAMP:20260423T083203Z
DTSTART:20250101T160000Z
DTEND:20250101T225000Z
LOCATION:Andermatt (CH)\,  Konzerthalle Bärengasse\,  6490 Andermatt\,  Switzerland
SUMMARY:Andermatt's musical New Year's greetings
DESCRIPTION:Maurice Steger | recorder &#8211; Blockflöte Swiss Orchestra L
 ena-Lisa Wüstendörfer | conductor &#8211; Leitung *** Werke von Joseph St
 alder\,  Anton Heberle (Recorder Concerto / Concerto Eflat Major for Csakan
 )\,  Wolfgang Amadeus Mozart\,  Antonio Vivaldi (Concerto per flauto op. 10
  / Nr. 6)\,  Fabian Müller (Fantasia Folkloristica für Blockflöte und Or
 chester)\, [..]\nhttps://maurice-steger.com/events/andermatts-musical-new-y
 ears-greetings/
URL:https://maurice-steger.com/events/andermatts-musical-new-years-greetings/
END:VEVENT
END:VCALENDAR