BEGIN:VCALENDAR
VERSION:2.0
PRODID:-//eventon.com NONSGML v1.0//EN
CALSCALE:GREGORIAN
METHOD:PUBLISH
BEGIN:VEVENT
UID:69ec96354458d
DTSTAMP:20260425T102349Z
DTSTART:20250102T160000Z
DTEND:20250102T225000Z
LOCATION:Zürich (CH)\,  Kunsthaus\,  Chipperfield-Bau\,  Festsaal Heimpl. 1/5\,  8001 Zürich
SUMMARY:New Years Concert 2025
DESCRIPTION:Maurice Steger | recorder &#8211; Blockflöte Swiss Orchestra L
 ena-Lisa Wüstendörfer | conductor &#8211; Leitung *** Werke von Joseph St
 alder\,  Anton Heberle (Recorder Concerto / Concerto Eflat Major for Csakan
 )\,  Wolfgang Amadeus Mozart\,  Antonio Vivaldi (Concerto per flauto op. 10
  / Nr. 6)\,  Fabian Müller (Fantasia Folkloristica für Blockflöte und Or
 chester)\, [..]\nhttps://maurice-steger.com/events/new-years-concert-2025/
URL:https://maurice-steger.com/events/new-years-concert-2025/
END:VEVENT
END:VCALENDAR