BEGIN:VCALENDAR
VERSION:2.0
PRODID:-//eventon.com NONSGML v1.0//EN
CALSCALE:GREGORIAN
METHOD:PUBLISH
BEGIN:VEVENT
UID:69e9d9737416b
DTSTAMP:20260423T083355Z
DTSTART:20240915T160000Z
DTEND:20240915T180000Z
LOCATION:Küsnacht (CH)\,  Konzertsaal Kirchstrasse 2\,  8700 Küsnacht
SUMMARY:Himmelstöne - Sphären des Barock
DESCRIPTION:Maurice Steger | Blockflöte &#8211; recorder Sonja Leutwyler |
  Gesang &#8211; mezzo soprano Astrid Leutwyler | Violine &#8211; baroque vi
 olin Daniele Caminiti | Theorbe &#8211; theorbo Sebastian Wienand | Cembalo
  &#8211; harpsichord *** 17 Uhr: Einführung &#8211; introduction talk with
  Maurice Steger &amp; Prof. Dr. Laurenz Lütteken 18 Uhr: Konzert[..]\nhttp
 s://maurice-steger.com/events/himmelstoene-sphaeren-des-barock/
URL:https://maurice-steger.com/events/himmelstoene-sphaeren-des-barock/
END:VEVENT
END:VCALENDAR