BEGIN:VCALENDAR
VERSION:2.0
PRODID:-//eventon.com NONSGML v1.0//EN
CALSCALE:GREGORIAN
METHOD:PUBLISH
BEGIN:VEVENT
UID:69eb48931f000
DTSTAMP:20260424T104019Z
DTSTART:20240523T173000Z
DTEND:20240523T215000Z
LOCATION:Basel (CH)\,  K-Haus Kasernenstrasse 8\,  4058 Basel\,  Schweiz
SUMMARY:Maurice Steger & Zürcher Kammerorchester
DESCRIPTION:Maurice Steger | Leitung &amp; Blockflöte Zürcher Kammerorche
 ster *** J. S. Bach Konzert D Dur für Blockflöte\,  Streicher &amp; b.c. 
 BWV 1053 | Anonymus A Jacobean Masque Dance | F. Müller Fantasia Folcloris
 tica | J. S. Bach Konzert d Moll für Blockflöte\,  Violine\,  Streicher &
 amp; b.c.\,  BWV 1060 (Willi Zimmermann\, [..]\nhttps://maurice-steger.com/
 events/maurice-steger-zuercher-kammerorchester/
URL:https://maurice-steger.com/events/maurice-steger-zuercher-kammerorchester/
END:VEVENT
END:VCALENDAR