BEGIN:VCALENDAR
VERSION:2.0
PRODID:-//eventon.com NONSGML v1.0//EN
CALSCALE:GREGORIAN
METHOD:PUBLISH
BEGIN:VEVENT
UID:69e9ed0456c75
DTSTAMP:20260423T095724Z
DTSTART:20240314T183000Z
DTEND:20240314T225000Z
LOCATION:Linz (A)\,  Brucknerhaus Untere Donaulände 7 4010 Linz\,  Austria
SUMMARY:Brucknerhaus Linz: Les nations en danse
DESCRIPTION:Maurice Steger | Blockflöte Chouchane Siranossian | Violine Da
 niel Rosin | Violoncello Sebastian Wienand | Cembalo *** Francesco Turini (
 um 1589–1656): Triosonate („Il Corisino“) für Blockflöte\,  Violine
  und Basso continuo (1621) Andrea Falconieri (um 1585–1656): „La bella 
 Marchesetta“\,  Passàcalle und Folias echa para mi Señora Doña Tarolil
 la de Carallenos\,  Nr.[..]\nhttps://maurice-steger.com/events/brucknerhaus
 -linz-les-nations-en-danse/
URL:https://maurice-steger.com/events/brucknerhaus-linz-les-nations-en-danse/
END:VEVENT
END:VCALENDAR