BEGIN:VCALENDAR
VERSION:2.0
PRODID:-//eventon.com NONSGML v1.0//EN
CALSCALE:GREGORIAN
METHOD:PUBLISH
BEGIN:VEVENT
UID:69e9d90319750
DTSTAMP:20260423T083203Z
DTSTART:20240119T180000Z
DTEND:20240119T200000Z
LOCATION:Gotha (DE)\,  Margarethenkirche Neumarkt\,  99867 Gotha\,  Deutschland
SUMMARY:Suoni veneziani in Gotha
DESCRIPTION:Maurice Steger | Blockflöte &amp; Leitung Barockorchester der 
 Thüringen Philharmonie Gotha-Eisenach *** Marco Uccellini (1603 – 1680) 
 : Symphonia XVII La Stucharda – per quatro canti e basso | Salomone Rossi
  (1570 ? – ca. 1630) : Sinfonia XI in eco – per due canti | Marco Uccel
 lini : Symphonia[..]\nhttps://maurice-steger.com/events/16395/
URL:https://maurice-steger.com/events/16395/
END:VEVENT
END:VCALENDAR