BEGIN:VCALENDAR
VERSION:2.0
PRODID:-//eventon.com NONSGML v1.0//EN
CALSCALE:GREGORIAN
METHOD:PUBLISH
BEGIN:VEVENT
UID:69e9eaed2e759
DTSTAMP:20260423T094829Z
DTSTART:20231130T183000Z
DTEND:20231130T225000Z
LOCATION:Biel (CH)\,  Farelhaus Oberer Quai 12\,  2502 Biel
SUMMARY:Vivaldi | Concerti da camera | Freitagsakademie
DESCRIPTION:Maurice Steger | Blockflöte &amp; Leitung Freitagsakademie | 
 Barockensemble Katharina Suske | Oboe &amp; künstlerische Leitung Gabriele
  Gombi | Fagott Ilia Korol | Violine Ján Krigovský | Violone Juan Sebasti
 an Lima | Laute Sebastian Wienand | Cembalo  *** Antonio Vivaldi : Concert
 o La Pastorella D Dur\,  RV 95 (Allegro | Largo[..]\nhttps://maurice-steger
 .com/events/vivaldi-concerti-da-camera-freitagsakademie/
URL:https://maurice-steger.com/events/vivaldi-concerti-da-camera-freitagsakademie/
END:VEVENT
END:VCALENDAR