BEGIN:VCALENDAR
VERSION:2.0
PRODID:-//eventon.com NONSGML v1.0//EN
CALSCALE:GREGORIAN
METHOD:PUBLISH
BEGIN:VEVENT
UID:69e9ed542b111
DTSTAMP:20260423T095844Z
DTSTART:20230507T030000Z
DTEND:20230507T073000Z
LOCATION:Hsinchu (China\,  Taiwan)\,  National Tsing Hua University No.521\,  Nanda Rd.\,  East Dist.\,  Hsinchu City 300\,  Taiwan (R.O.C.)
SUMMARY:Masterclass last day in Taiwan
DESCRIPTION:Maurice Steger teaches one week at the Department of Music of t
 he National Tsing Aua University\,  Taiwan republic of China. Steger is a v
 isiting professor at the University of Taiwan. Pleasure to have the master 
 class live for the first time in 3 years. 莫里斯-斯泰格教授在中
 台湾的国立清华大学音乐系任教一周。 斯特格是台湾大
 的访问教授。很高兴三年来第一次在现场举办大师班。 
 Solo lessons for recorder[..]\nhttps://maurice-steger.com/events/masterclas
 s-last-day-in-taiwan/
URL:https://maurice-steger.com/events/masterclass-last-day-in-taiwan/
END:VEVENT
END:VCALENDAR