BEGIN:VCALENDAR
VERSION:2.0
PRODID:-//eventon.com NONSGML v1.0//EN
CALSCALE:GREGORIAN
METHOD:PUBLISH
BEGIN:VEVENT
UID:69e9d97ddda08
DTSTAMP:20260423T083405Z
DTSTART:20230319T190000Z
DTEND:20230319T225000Z
LOCATION:Ahrensburg (DE)\,  Eduard-Söring-Saal Waldstrasse 14\,  22926 Ahrensburg\,  Deutschland
SUMMARY:Maurice Steger & Martin Stadtfeld
DESCRIPTION:Maurice Steger | Blockflöte &#8211; recorder Martin Stadtfeld 
 | Klavier &#8211; piano *** Johann Sebastian Bach &#8211; Sonate d-moll\,  
 BWV 527 | Bodin de Boismortier &#8211; 1. Sonate D-Dur op. 91 | Johann Se
 bastian Bach &#8211; Sonate g-moll\,  BWV 1020 | Georg Friedrich Händel &
 #8211; Sonate a-moll\,  HWV 362 | Georg Friedrich Händel/Martin Stadtfeld
 [..]\nhttps://maurice-steger.com/events/maurice-steger-martin-stadtfeld-10/
URL:https://maurice-steger.com/events/maurice-steger-martin-stadtfeld-10/
END:VEVENT
END:VCALENDAR