BEGIN:VCALENDAR
VERSION:2.0
PRODID:-//eventon.com NONSGML v1.0//EN
CALSCALE:GREGORIAN
METHOD:PUBLISH
BEGIN:VEVENT
UID:69ed7a388c820
DTSTAMP:20260426T023640Z
DTSTART:20221021T233000Z
DTEND:20221022T035000Z
LOCATION:Montréal (CA)\,  Salle Bourgie du Musée des beaux-arts 1339 Rue Sherbrooke Ouest\,  Montréal\,  QC H3G 1G2
SUMMARY:A SINGING VENICE GARDEN in Montreal
DESCRIPTION:Maurice Steger | Flûte à bec et chef &#8211; recorder and con
 ductor Les Violons du Roy | orchestre &#8211; orchestra *** T. ALBINONI: C
 oncerto à 5 en sol majeur\,  op. 10 n° 4 A. VIVALDI • Concerto pour de
 ux violons et violoncelle en ré mineur\,  op. 3 n°11\,  RV 565 extrait de
 [..]\nhttps://maurice-steger.com/events/a-singing-venice-garden-in-montreal
 /
URL:https://maurice-steger.com/events/a-singing-venice-garden-in-montreal/
END:VEVENT
END:VCALENDAR