BEGIN:VCALENDAR
VERSION:2.0
PRODID:-//eventon.com NONSGML v1.0//EN
CALSCALE:GREGORIAN
METHOD:PUBLISH
BEGIN:VEVENT
UID:69e9eab5d58c1
DTSTAMP:20260423T094733Z
DTSTART:20220718
DTEND:20220719
LOCATION:Nürnberg (DE)\,  Musikhochschule Veilhofstraße 34-40\,  90489 Nürnberg\,  Deutschland
SUMMARY:Masterclass Recorder & Ancient Music | Nürnberg
DESCRIPTION:&nbsp; Prof. Maurice Steger unterrichtet eine Masterclass an d
 er Hochschule für Musik Nürnberg. Die Lektionen sind bereits ausgebucht. 
 *** Info: maurice.steger@hfm-nuernberg.de\nhttps://maurice-steger.com/event
 s/masterclass-recorder-ancient-music-nuernberg-3/
URL:https://maurice-steger.com/events/masterclass-recorder-ancient-music-nuernberg-3/
END:VEVENT
END:VCALENDAR