BEGIN:VCALENDAR
VERSION:2.0
PRODID:-//eventon.com NONSGML v1.0//EN
CALSCALE:GREGORIAN
METHOD:PUBLISH
BEGIN:VEVENT
UID:69e9d8f083568
DTSTAMP:20260423T083144Z
DTSTART:20220430T173000Z
DTEND:20220430T183000Z
LOCATION:Niederlenz (CH)\,  reformierte Kirche Höhenweg 8\,  5702 Niederlenz\,  Schweiz
SUMMARY:Baroque delights from Italy
DESCRIPTION:Maurice Steger | Blockflöte Christoph Croisé | Violoncello Se
 bastian Wienand | Cembalo *** Perlen der Barockmusik\,  Werke von A. Vivald
 i\,  F. Mancini\,  A. Corelli u.a. *** Tickets: https://www.ticketino.com/d
 e/Event/Barock-konzert/160468 Info: https://www.niederlenzer-musiktage.com/
 konzerte\nhttps://maurice-steger.com/events/15285/
URL:https://maurice-steger.com/events/15285/
END:VEVENT
END:VCALENDAR