BEGIN:VCALENDAR
VERSION:2.0
PRODID:-//eventon.com NONSGML v1.0//EN
CALSCALE:GREGORIAN
METHOD:PUBLISH
BEGIN:VEVENT
UID:69e9ea9b66db7
DTSTAMP:20260423T094707Z
DTSTART:20220401
DTEND:20220402
LOCATION:Zürich (CH)\,  Konservatorium Musikschule Konservatorium Zürich\,  Florhofgasse 6\,  8001 Zürich
SUMMARY:Konservatorium Zürich: Expertentätigkeit
DESCRIPTION:Maurice Steger juriert interne Wettbewerbe Blockflöte am Kons
 ervatorium Musikschule Zürich. Wir wünschen allen Beteiligten bestes Geli
 ngen! *** Der Wettbewerb ist nicht öffentlich. ***\nhttps://maurice-steger
 .com/events/konservatorium-zuerich-expertentaetigkeit/
URL:https://maurice-steger.com/events/konservatorium-zuerich-expertentaetigkeit/
END:VEVENT
END:VCALENDAR