BEGIN:VCALENDAR
VERSION:2.0
PRODID:-//eventon.com NONSGML v1.0//EN
CALSCALE:GREGORIAN
METHOD:PUBLISH
BEGIN:VEVENT
UID:69e9eca116dbc
DTSTAMP:20260423T095545Z
DTSTART:20220428
DTEND:20220429
LOCATION:Zürich (CH)\,  Konservatorium Musikschule Konservatorium Zürich\,  Florhofgasse 6\,  8001 Zürich
SUMMARY:Schweizerischer Jugendmusikwettbewerb | Concours Suisse de Musique pour la Jeunesse | Concorso Svizzero di Musica per la Gioventù | Concurrenza Svizra da Musica per la Giuventetgna (Copy)
DESCRIPTION:FINALE in ZÜRICH Alle Finaldurchgänge finden in Musikschule K
 onservatorium Zürich an der Florhofgasse statt. *** Disziplinen: Solowettb
 ewerbe 2022 | Violine • Viola • Violoncello • Kontrabass • Querflo
 ̈te • Blockflöte • Oboe • Klarinette • Saxophon • Fagott • H
 arfe • Akkordeon • Hackbrett • Panflöte • Klassisches Schlagzeug 
 • Alte[..]\nhttps://maurice-steger.com/events/schweizerischer-jugendmusik
 wettbewerb-concours-suisse-de-musique-pour-la-jeunesse-concorso-svizzero-di
 -musica-per-la-gioventu-concurrenza-svizra-da-musica-per-la-giuventetgna-co
 py/
URL:https://maurice-steger.com/events/schweizerischer-jugendmusikwettbewerb-concours-suisse-de-musique-pour-la-jeunesse-concorso-svizzero-di-musica-per-la-gioventu-concurrenza-svizra-da-musica-per-la-giuventetgna-copy/
END:VEVENT
END:VCALENDAR