BEGIN:VCALENDAR
VERSION:2.0
PRODID:-//eventon.com NONSGML v1.0//EN
CALSCALE:GREGORIAN
METHOD:PUBLISH
BEGIN:VEVENT
UID:69e9ecc1edde5
DTSTAMP:20260423T095617Z
DTSTART:20210928T173000Z
DTEND:20210928T215000Z
LOCATION:Tonhalle\,  Großer Saal\,  Zürich Tonhalle Zürich\,  Claridenstrasse 7\,  8002 Zürich
SUMMARY:Baroque opening of the new Tonhalle Zurich
DESCRIPTION:Maurice Steger | director &amp; recorder &#8211; Blockflöte &a
 mp; Leitung The English Concert | Baroque orchestra *** Georg Friedrich Hä
 ndel «Wassermusik» HWV 348–350 Antonio Vivaldi Konzert C-Dur RV 537 fü
 r zwei Trompeten\,  Streicher und Basso continuo Francesco Saverio Geminian
 i Konzert d-Moll für Blockflöte\,  Streicher und Basso continuo (nach Arc
 angelo Corelli)[..]\nhttps://maurice-steger.com/events/baroque-opening-of-t
 he-new-tonhalle-zurich/
URL:https://maurice-steger.com/events/baroque-opening-of-the-new-tonhalle-zurich/
END:VEVENT
END:VCALENDAR