BEGIN:VCALENDAR
VERSION:2.0
PRODID:-//eventon.com NONSGML v1.0//EN
CALSCALE:GREGORIAN
METHOD:PUBLISH
BEGIN:VEVENT
UID:69e9ea9b62869
DTSTAMP:20260423T094707Z
DTSTART:20210822T090000Z
DTEND:20210822T215000Z
LOCATION:Burgrieden (DE)\,  Museum Villa Rot Schlossweg 2 88483 Burgrieden â€“ Rot\,  Deutschland
SUMMARY:Maurice Steger & Martin Stadtfeld
DESCRIPTION:Maurice Steger | BlockflÃ¶te &#8211; recorder Martin Stadtfeld 
 | Klavier &#8211; piano *** Bach: Sonate h-Moll &amp;Â Sonate g-Moll fÃ¼r F
 lÃ¶te und Clavier BWV 1030 &amp; 1020 Bach: Englische Suite Nr. 3 g-Moll BW
 V 808 Boismortier: 1. Sonate D-Dur op. 91 HÃ¤ndel: Sonate a-Moll HWV 362 HÃ
 ¤ndel: Drei Arien in der[..]\nhttps://maurice-steger.com/events/maurice-ste
 ger-martin-stadtfeld-6/
URL:https://maurice-steger.com/events/maurice-steger-martin-stadtfeld-6/
END:VEVENT
END:VCALENDAR