BEGIN:VCALENDAR
VERSION:2.0
PRODID:-//eventon.com NONSGML v1.0//EN
CALSCALE:GREGORIAN
METHOD:PUBLISH
BEGIN:VEVENT
UID:69eb979ce0f14
DTSTAMP:20260424T161732Z
DTSTART:20210828
DTEND:20210829
LOCATION:SchÃ¶nried (CH)\,  Wellness- &amp; Spa-Hotel Ermitage\,  www.ermitage.ch Dorfstrasse 46\,  3778 SchÃ¶nried\,  Schweiz
SUMMARY:Gstaad Baroque Academy 2021
DESCRIPTION:Prof. Maurice Steger | BlockflÃ¶te &#8211; recorder | Chamber m
 usic | workshops | Gesamtleitung &#8211; direction Prof.Â Rachel PodgerÂ |Â
  Baroque violin | Chamber music | workshop David BergmÃ¼ller | Laute &#8211
 ; lute | Chamber music Diego AresÂ | Cembalo &#8211; harpsichord | Chamber 
 music Dieter WeitzÂ | Cembalokorrepetition &#8211; harpsichord Maximilian V
 olbersÂ | Cembalokorrepetition &#8211;[..]\nhttps://maurice-steger.com/even
 ts/gstaad-baroque-academy-2021/
URL:https://maurice-steger.com/events/gstaad-baroque-academy-2021/
END:VEVENT
END:VCALENDAR